Workbook

Sheet Spese
A1: Gestione delle spese di viaggio
A2: Come si usa: scrivi i nomi nel foglio Persone e aggiungi una riga per ogni spesa qui sotto.
A3: Metti 1 sotto ogni persona che partecipa alla spesa e lascia vuote le altre. La quota a persona si calcola da sola.
A4: Il foglio Persone mostra chi ha pagato, chi deve e che cosa mandare all'organizzatore.
A6: Data | B6: Categoria | C6: Descrizione | D6: Importo | E6: Pagato da | F6: Divisa tra | G6: Quota a persona | H6: =IF('Persone'!$B$4="","",'Persone'!$B$4) | I6: =IF('Persone'!$B$5="","",'Persone'!$B$5) | J6: =IF('Persone'!$B$6="","",'Persone'!$B$6) | K6: =IF('Persone'!$B$7="","",'Persone'!$B$7) | L6: =IF('Persone'!$B$8="","",'Persone'!$B$8) | M6: =IF('Persone'!$B$9="","",'Persone'!$B$9) | N6: =IF('Persone'!$B$10="","",'Persone'!$B$10) | O6: =IF('Persone'!$B$11="","",'Persone'!$B$11) | P6: =IF('Persone'!$B$12="","",'Persone'!$B$12) | Q6: =IF('Persone'!$B$13="","",'Persone'!$B$13)
A7: 46248 | B7: Trasporti | C7: Biglietti del treno | D7: 240 | E7: Giulia | F7: =SUM(H7:Q7) | G7: =IF(F7>0,D7/F7,0) | H7: 1 | I7: 1 | J7: 1 | K7: 1 | L7: 0 | M7: 0 | N7: 0 | O7: 0 | P7: 0 | Q7: 0
A8: 46248 | B8: Alloggio | C8: Appartamento (3 notti) | D8: 480 | E8: Marco | F8: =SUM(H8:Q8) | G8: =IF(F8>0,D8/F8,0) | H8: 1 | I8: 1 | J8: 1 | K8: 1 | L8: 0 | M8: 0 | N8: 0 | O8: 0 | P8: 0 | Q8: 0
A9: 46249 | B9: Cibo | C9: Cena | D9: 128 | E9: Sara | F9: =SUM(H9:Q9) | G9: =IF(F9>0,D9/F9,0) | H9: 1 | I9: 1 | J9: 1 | K9: 1 | L9: 0 | M9: 0 | N9: 0 | O9: 0 | P9: 0 | Q9: 0
A10: 46250 | B10: Attività | C10: Biglietti del museo | D10: 54 | E10: Giulia | F10: =SUM(H10:Q10) | G10: =IF(F10>0,D10/F10,0) | H10: 1 | I10: 1 | J10: 0 | K10: 1 | L10: 0 | M10: 0 | N10: 0 | O10: 0 | P10: 0 | Q10: 0
A11: 46251 | B11: Trasporti | C11: Taxi per l'aeroporto | D11: 36 | E11: Luca | F11: =SUM(H11:Q11) | G11: =IF(F11>0,D11/F11,0) | H11: 1 | I11: 1 | J11: 1 | K11: 1 | L11: 0 | M11: 0 | N11: 0 | O11: 0 | P11: 0 | Q11: 0
F12: =SUM(H12:Q12) | G12: =IF(F12>0,D12/F12,0)
F13: =SUM(H13:Q13) | G13: =IF(F13>0,D13/F13,0)
F14: =SUM(H14:Q14) | G14: =IF(F14>0,D14/F14,0)
F15: =SUM(H15:Q15) | G15: =IF(F15>0,D15/F15,0)
F16: =SUM(H16:Q16) | G16: =IF(F16>0,D16/F16,0)
F17: =SUM(H17:Q17) | G17: =IF(F17>0,D17/F17,0)
F18: =SUM(H18:Q18) | G18: =IF(F18>0,D18/F18,0)
F19: =SUM(H19:Q19) | G19: =IF(F19>0,D19/F19,0)
F20: =SUM(H20:Q20) | G20: =IF(F20>0,D20/F20,0)
F21: =SUM(H21:Q21) | G21: =IF(F21>0,D21/F21,0)
F22: =SUM(H22:Q22) | G22: =IF(F22>0,D22/F22,0)
F23: =SUM(H23:Q23) | G23: =IF(F23>0,D23/F23,0)
... F46: =SUM(H46:Q46) | G46: =IF(F46>0,D46/F46,0)

Sheet Persone
A1: Persone
A3: N. | B3: Nome | C3: Pagato | D3: Quota | E3: Saldo
A4: 1 | B4: Giulia | C4: =IF($B4="",0,SUMIF('Spese'!$E$7:$E$46,$B4,'Spese'!$D$7:$D$46)) | D4: =SUMPRODUCT('Spese'!$G$7:$G$46,'Spese'!$H$7:$H$46) | E4: =C4-D4
A5: 2 | B5: Marco | C5: =IF($B5="",0,SUMIF('Spese'!$E$7:$E$46,$B5,'Spese'!$D$7:$D$46)) | D5: =SUMPRODUCT('Spese'!$G$7:$G$46,'Spese'!$I$7:$I$46) | E5: =C5-D5
A6: 3 | B6: Sara | C6: =IF($B6="",0,SUMIF('Spese'!$E$7:$E$46,$B6,'Spese'!$D$7:$D$46)) | D6: =SUMPRODUCT('Spese'!$G$7:$G$46,'Spese'!$J$7:$J$46) | E6: =C6-D6
A7: 4 | B7: Luca | C7: =IF($B7="",0,SUMIF('Spese'!$E$7:$E$46,$B7,'Spese'!$D$7:$D$46)) | D7: =SUMPRODUCT('Spese'!$G$7:$G$46,'Spese'!$K$7:$K$46) | E7: =C7-D7
A8: 5 | C8: =IF($B8="",0,SUMIF('Spese'!$E$7:$E$46,$B8,'Spese'!$D$7:$D$46)) | D8: =SUMPRODUCT('Spese'!$G$7:$G$46,'Spese'!$L$7:$L$46) | E8: =C8-D8
A9: 6 | C9: =IF($B9="",0,SUMIF('Spese'!$E$7:$E$46,$B9,'Spese'!$D$7:$D$46)) | D9: =SUMPRODUCT('Spese'!$G$7:$G$46,'Spese'!$M$7:$M$46) | E9: =C9-D9
A10: 7 | C10: =IF($B10="",0,SUMIF('Spese'!$E$7:$E$46,$B10,'Spese'!$D$7:$D$46)) | D10: =SUMPRODUCT('Spese'!$G$7:$G$46,'Spese'!$N$7:$N$46) | E10: =C10-D10
A11: 8 | C11: =IF($B11="",0,SUMIF('Spese'!$E$7:$E$46,$B11,'Spese'!$D$7:$D$46)) | D11: =SUMPRODUCT('Spese'!$G$7:$G$46,'Spese'!$O$7:$O$46) | E11: =C11-D11
A12: 9 | C12: =IF($B12="",0,SUMIF('Spese'!$E$7:$E$46,$B12,'Spese'!$D$7:$D$46)) | D12: =SUMPRODUCT('Spese'!$G$7:$G$46,'Spese'!$P$7:$P$46) | E12: =C12-D12
A13: 10 | C13: =IF($B13="",0,SUMIF('Spese'!$E$7:$E$46,$B13,'Spese'!$D$7:$D$46)) | D13: =SUMPRODUCT('Spese'!$G$7:$G$46,'Spese'!$Q$7:$Q$46) | E13: =C13-D13
B14: Totale | C14: =SUM(C4:C13) | D14: =SUM(D4:D13) | E14: =SUM(E4:E13) | F14: La somma dei saldi deve essere 0
A16: Saldare con l'organizzatore
A17: La persona 1 è l'organizzatore. Tutti gli altri fanno o ricevono un solo pagamento.
A18: Persona | B18: Paga all'organizzatore | C18: Riceve dall'organizzatore
A19: =IF($B$5="","",$B$5) | B19: =IF($A19="",0,IF($E$5<0,ABS($E$5),0)) | C19: =IF($A19="",0,IF($E$5>0,$E$5,0))
A20: =IF($B$6="","",$B$6) | B20: =IF($A20="",0,IF($E$6<0,ABS($E$6),0)) | C20: =IF($A20="",0,IF($E$6>0,$E$6,0))
A21: =IF($B$7="","",$B$7) | B21: =IF($A21="",0,IF($E$7<0,ABS($E$7),0)) | C21: =IF($A21="",0,IF($E$7>0,$E$7,0))
A22: =IF($B$8="","",$B$8) | B22: =IF($A22="",0,IF($E$8<0,ABS($E$8),0)) | C22: =IF($A22="",0,IF($E$8>0,$E$8,0))
A23: =IF($B$9="","",$B$9) | B23: =IF($A23="",0,IF($E$9<0,ABS($E$9),0)) | C23: =IF($A23="",0,IF($E$9>0,$E$9,0))
A24: =IF($B$10="","",$B$10) | B24: =IF($A24="",0,IF($E$10<0,ABS($E$10),0)) | C24: =IF($A24="",0,IF($E$10>0,$E$10,0))
A25: =IF($B$11="","",$B$11) | B25: =IF($A25="",0,IF($E$11<0,ABS($E$11),0)) | C25: =IF($A25="",0,IF($E$11>0,$E$11,0))
A26: =IF($B$12="","",$B$12) | B26: =IF($A26="",0,IF($E$12<0,ABS($E$12),0)) | C26: =IF($A26="",0,IF($E$12>0,$E$12,0))
A27: =IF($B$13="","",$B$13) | B27: =IF($A27="",0,IF($E$13<0,ABS($E$13),0)) | C27: =IF($A27="",0,IF($E$13>0,$E$13,0))
A28: Totale | B28: =SUM(B19:B27) | C28: =SUM(C19:C27)

Sheet Riepilogo
A1: Riepilogo
A3: Spese per giorno
A4: Giorno | B4: Totale
A5: 46248 | B5: =SUMIF('Spese'!$A$7:$A$46,$A5,'Spese'!$D$7:$D$46)
A6: 46249 | B6: =SUMIF('Spese'!$A$7:$A$46,$A6,'Spese'!$D$7:$D$46)
A7: 46250 | B7: =SUMIF('Spese'!$A$7:$A$46,$A7,'Spese'!$D$7:$D$46)
A8: 46251 | B8: =SUMIF('Spese'!$A$7:$A$46,$A8,'Spese'!$D$7:$D$46)
A9: 46252 | B9: =SUMIF('Spese'!$A$7:$A$46,$A9,'Spese'!$D$7:$D$46)
A11: Spese per categoria
A12: Categoria | B12: Totale
A13: Trasporti | B13: =SUMIF('Spese'!$B$7:$B$46,$A13,'Spese'!$D$7:$D$46)
A14: Alloggio | B14: =SUMIF('Spese'!$B$7:$B$46,$A14,'Spese'!$D$7:$D$46)
A15: Cibo | B15: =SUMIF('Spese'!$B$7:$B$46,$A15,'Spese'!$D$7:$D$46)
A16: Attività | B16: =SUMIF('Spese'!$B$7:$B$46,$A16,'Spese'!$D$7:$D$46)
A17: Altro | B17: =SUMIF('Spese'!$B$7:$B$46,$A17,'Spese'!$D$7:$D$46)
A18: Totale | B18: =SUM(B13:B17)
